BEGIN:VCALENDAR
VERSION:2.0
PRODID:-//https://www.modl.ca//NONSGML kigkonsult.se iCalcreator 2.29.29//
CALSCALE:GREGORIAN
METHOD:PUBLISH
UID:4d2c42b2-f40e-4108-87b4-f7f697d28a11
X-WR-CALNAME:JCal Pro Calendar
X-WR-CALDESC:Your online events calendar
X-WR-TIMEZONE:America/Halifax
BEGIN:VTIMEZONE
TZID:America/Halifax
BEGIN:STANDARD
TZNAME:AST
DTSTART:20251102T020000
TZOFFSETFROM:-0300
TZOFFSETTO:-0400
RDATE:20261101T020000
END:STANDARD
BEGIN:DAYLIGHT
TZNAME:ADT
DTSTART:20260308T020000
TZOFFSETFROM:-0400
TZOFFSETTO:-0300
RDATE:20270314T020000
END:DAYLIGHT
END:VTIMEZONE
BEGIN:VEVENT
UID:20260112T190000AST-0905CnrnLK@https://www.modl.ca/
DTSTAMP:20260420T164339Z
CATEGORIES:Events and Activities
DESCRIPTION:<p>The South Shore Chorale\, the long running choir of the Sout
 hShore\, meets weekly on Monday at St Joseph’s Church Hall\, Bridgewater\,
  from 7pm-9pm. The repertoire this season will be based on a variety of mu
 sic styles engaging a Garden theme. First rehearsal is Monday January 12th
  through to first Concerts in early May.</p>
DTSTART;TZID=America/Halifax:20260112T190000
DTEND;TZID=America/Halifax:20260112T210000
RRULE:FREQ=WEEKLY;COUNT=16;INTERVAL=1;BYDAY=MO
SUMMARY:South Shore Choral Rehearsals
URL:https://www.modl.ca/447-community-calendar/451-events-and-activities/98
 53-south-shore-choral-rehearsals.html
X-ALT-DESC;FMTTYPE=TEXT/HTML:<p>The South Shore Chorale\, the long running 
 choir of the SouthShore\, meets weekly on Monday at St Joseph’s Church Hal
 l\, Bridgewater\, from 7pm-9pm. The repertoire this season will be based o
 n a variety of music styles engaging a Garden theme. First rehearsal is Mo
 nday January 12th through to first Concerts in early May.</p>
END:VEVENT
BEGIN:VEVENT
UID:20250121T120000AST-7110NZ34Zu@https://www.modl.ca/
DTSTAMP:20260420T164339Z
CATEGORIES:Council and Committee Meetings
DESCRIPTION:<p><strong>Location:</strong>&nbsp\;Council Chambers - Administ
 ration Building</p>
DTSTART;TZID=America/Halifax:20250121T090000
DTEND;TZID=America/Halifax:20250121T120000
RRULE:FREQ=MONTHLY;UNTIL=20281030T030000Z;INTERVAL=1;BYDAY=TU;BYSETPOS=3
SUMMARY:Policy & Strategy Committee Meeting
URL:https://www.modl.ca/447-community-calendar/448-council-and-committee-me
 etings/8871-policy-strategy-committee-meeting.html
X-ALT-DESC;FMTTYPE=TEXT/HTML:<p><strong>Location:</strong>&nbsp\;Council Ch
 ambers - Administration Building</p>
END:VEVENT
BEGIN:VEVENT
UID:20260423T140000ADT-6176EhsjCI@https://www.modl.ca/
DTSTAMP:20260420T164339Z
CATEGORIES:Events and Activities
DESCRIPTION:<p>Please join us on April 23rd\, staff from Harbour House will
  be offering an info session on their shelter services and outreach suppor
 ts. This info session is open to service providers and community members. 
 <br />Register by emailing <span id='cloak1f1ee794022647a56acbe5b7923bca3b
 '>This email address is being protected from spambots. You need JavaScript
  enabled to view it.</span><script type='text/javascript'>\n				document.getEl
 ementById('cloak1f1ee794022647a56acbe5b7923bca3b').innerHTML = ''\;\n				var p
 refix = '&#109\;a' + 'i&#108\;' + '&#116\;o'\;\n				var path = 'hr' + 'ef' + '
 ='\;\n				var addy1f1ee794022647a56acbe5b7923bca3b = '&#105\;nf&#111\;' + '&#6
 4\;'\;\n				addy1f1ee794022647a56acbe5b7923bca3b = addy1f1ee794022647a56acbe5b
 7923bca3b + 's&#101\;c&#111\;ndst&#111\;ry' + '&#46\;' + 'c&#97\;'\;\n				var 
 addy_text1f1ee794022647a56acbe5b7923bca3b = '&#105\;nf&#111\;' + '&#64\;' 
 + 's&#101\;c&#111\;ndst&#111\;ry' + '&#46\;' + 'c&#97\;'\;document.getElem
 entById('cloak1f1ee794022647a56acbe5b7923bca3b').innerHTML += '<a ' + path
  + '\'' + prefix + ':' + addy1f1ee794022647a56acbe5b7923bca3b + '\'>'+addy
 _text1f1ee794022647a56acbe5b7923bca3b+'<\/a>'\;\n		</script> or call 902-640
 -3044. The session will take place at Second Story Women's Centre (18 Duff
 erin st\, Lunenburg)</p>
DTSTART;TZID=America/Halifax:20260423T140000
DTEND;TZID=America/Halifax:20260423T150000
SUMMARY:Information Session: Harbour House Services
URL:https://www.modl.ca/447-community-calendar/451-events-and-activities/98
 84-information-session-harbour-house-services.html
X-ALT-DESC;FMTTYPE=TEXT/HTML:<p>Please join us on April 23rd\, staff from H
 arbour House will be offering an info session on their shelter services an
 d outreach supports. This info session is open to service providers and co
 mmunity members. <br />Register by emailing <span id='cloak1f1ee794022647a
 56acbe5b7923bca3b'>This email address is being protected from spambots. Yo
 u need JavaScript enabled to view it.</span><script type='text/javascript'
 >\n				document.getElementById('cloak1f1ee794022647a56acbe5b7923bca3b').innerH
 TML = ''\;\n				var prefix = '&#109\;a' + 'i&#108\;' + '&#116\;o'\;\n				var path 
 = 'hr' + 'ef' + '='\;\n				var addy1f1ee794022647a56acbe5b7923bca3b = '&#105\;
 nf&#111\;' + '&#64\;'\;\n				addy1f1ee794022647a56acbe5b7923bca3b = addy1f1ee7
 94022647a56acbe5b7923bca3b + 's&#101\;c&#111\;ndst&#111\;ry' + '&#46\;' + 
 'c&#97\;'\;\n				var addy_text1f1ee794022647a56acbe5b7923bca3b = '&#105\;nf&#1
 11\;' + '&#64\;' + 's&#101\;c&#111\;ndst&#111\;ry' + '&#46\;' + 'c&#97\;'\
 ;document.getElementById('cloak1f1ee794022647a56acbe5b7923bca3b').innerHTM
 L += '<a ' + path + '\'' + prefix + ':' + addy1f1ee794022647a56acbe5b7923b
 ca3b + '\'>'+addy_text1f1ee794022647a56acbe5b7923bca3b+'<\/a>'\;\n		</script
 > or call 902-640-3044. The session will take place at Second Story Women'
 s Centre (18 Dufferin st\, Lunenburg)</p>
END:VEVENT
BEGIN:VEVENT
UID:20260425T100000ADT-8667kkLaNL@https://www.modl.ca/
DTSTAMP:20260420T164339Z
CATEGORIES:Events and Activities
DESCRIPTION:<p>Join us for the Record Expo: East Coast Crates featuring loc
 al vendors and artists at the Bridgewater Legion.</p>\n<p>The event is tak
 ing place on April 25 from 10am to 3pm.</p>\n<p>Please contact me for more
  information at: <a href='mailto:gallie.tutoring@outlook.com.'><span id='c
 loak897c172cb86c95bc053e251884908726'>This email address is being protecte
 d from spambots. You need JavaScript enabled to view it.</span><script typ
 e='text/javascript'>
				document.getElementById('cloak897c172cb86c95bc053e2518
 84908726').innerHTML = ''\;
				var prefix = '&#109\;a' + 'i&#108\;' + '&#116\;
 o'\;
				var path = 'hr' + 'ef' + '='\;
				var addy897c172cb86c95bc053e251884908726
  = 'g&#97\;ll&#105\;&#101\;.t&#117\;t&#111\;r&#105\;ng' + '&#64\;'\;
				addy89
 7c172cb86c95bc053e251884908726 = addy897c172cb86c95bc053e251884908726 + '&
 #111\;&#117\;tl&#111\;&#111\;k' + '&#46\;' + 'c&#111\;m'\;
				var addy_text897
 c172cb86c95bc053e251884908726 = 'g&#97\;ll&#105\;&#101\;.t&#117\;t&#111\;r
 &#105\;ng' + '&#64\;' + '&#111\;&#117\;tl&#111\;&#111\;k' + '&#46\;' + 'c&
 #111\;m'\;document.getElementById('cloak897c172cb86c95bc053e251884908726')
 .innerHTML += '<a ' + path + '\'' + prefix + ':' + addy897c172cb86c95bc053
 e251884908726 + '\'>'+addy_text897c172cb86c95bc053e251884908726+'<\/a>'\;
		<
 /script>.</a></p>
DTSTART;TZID=America/Halifax:20260425T100000
DTEND;TZID=America/Halifax:20260425T150000
SUMMARY:Record Expo: East Coast Crates
URL:https://www.modl.ca/447-community-calendar/451-events-and-activities/98
 71-record-expo-east-coast-crates.html
X-ALT-DESC;FMTTYPE=TEXT/HTML:<p>Join us for the Record Expo: East Coast Cra
 tes featuring local vendors and artists at the Bridgewater Legion.</p>\n<p
 >The event is taking place on April 25 from 10am to 3pm.</p>\n<p>Please co
 ntact me for more information at: <a href='mailto:gallie.tutoring@outlook.
 com.'><span id='cloak897c172cb86c95bc053e251884908726'>This email address 
 is being protected from spambots. You need JavaScript enabled to view it.<
 /span><script type='text/javascript'>
				document.getElementById('cloak897c172
 cb86c95bc053e251884908726').innerHTML = ''\;
				var prefix = '&#109\;a' + 'i&#
 108\;' + '&#116\;o'\;
				var path = 'hr' + 'ef' + '='\;
				var addy897c172cb86c95b
 c053e251884908726 = 'g&#97\;ll&#105\;&#101\;.t&#117\;t&#111\;r&#105\;ng' +
  '&#64\;'\;
				addy897c172cb86c95bc053e251884908726 = addy897c172cb86c95bc053e
 251884908726 + '&#111\;&#117\;tl&#111\;&#111\;k' + '&#46\;' + 'c&#111\;m'\
 ;
				var addy_text897c172cb86c95bc053e251884908726 = 'g&#97\;ll&#105\;&#101\;.
 t&#117\;t&#111\;r&#105\;ng' + '&#64\;' + '&#111\;&#117\;tl&#111\;&#111\;k'
  + '&#46\;' + 'c&#111\;m'\;document.getElementById('cloak897c172cb86c95bc0
 53e251884908726').innerHTML += '<a ' + path + '\'' + prefix + ':' + addy89
 7c172cb86c95bc053e251884908726 + '\'>'+addy_text897c172cb86c95bc053e251884
 908726+'<\/a>'\;
		</script>.</a></p>
END:VEVENT
BEGIN:VEVENT
UID:20260425T130000ADT-2014vZ31Ms@https://www.modl.ca/
DTSTAMP:20260420T164339Z
CATEGORIES:Events and Activities
DESCRIPTION:<p>As part of the Enabling Accessibility project at IMWAH\, joi
 n us for a free art workshop for immigrant and newcomer women to explore i
 dentity\, resilience\, and community through art. Participants will use bo
 dy mapping to reflect on their unique experiences\, strengths\, and strugg
 les\, and explore where these live within them. This event is a closed spa
 ce for immigrant and newcomer women.<br />Light snacks and all art materia
 ls will be provided! Please connect with us if you require support such as
  childcare or transport to attend. We will also hold a raffle at the end f
 or a chance to win a $20 Amazon gift card.<br />Saturday\, April 25th<br /
 >1:00 –3:00 pm<br />Second Story Women’s Centre 18 Dufferin St\, Lunenburg
 \, NS<br /><a href='https://www.eventbrite.ca/e/art-workshop-tickets-19862
 38711454'>https://www.eventbrite.ca/e/art-workshop-tickets-1986238711454</
 a></p>
DTSTART;TZID=America/Halifax:20260425T130000
DTEND;TZID=America/Halifax:20260425T150000
SUMMARY:Body Mapping Art Workshop
URL:https://www.modl.ca/447-community-calendar/451-events-and-activities/98
 83-body-mapping-art-workshop.html
X-ALT-DESC;FMTTYPE=TEXT/HTML:<p>As part of the Enabling Accessibility proje
 ct at IMWAH\, join us for a free art workshop for immigrant and newcomer w
 omen to explore identity\, resilience\, and community through art. Partici
 pants will use body mapping to reflect on their unique experiences\, stren
 gths\, and struggles\, and explore where these live within them. This even
 t is a closed space for immigrant and newcomer women.<br />Light snacks an
 d all art materials will be provided! Please connect with us if you requir
 e support such as childcare or transport to attend. We will also hold a ra
 ffle at the end for a chance to win a $20 Amazon gift card.<br />Saturday\
 , April 25th<br />1:00 –3:00 pm<br />Second Story Women’s Centre 18 Duffer
 in St\, Lunenburg\, NS<br /><a href='https://www.eventbrite.ca/e/art-works
 hop-tickets-1986238711454'>https://www.eventbrite.ca/e/art-workshop-ticket
 s-1986238711454</a></p>
END:VEVENT
BEGIN:VEVENT
UID:20260427T120000ADT-3338DwHo9u@https://www.modl.ca/
DTSTAMP:20260420T164339Z
CATEGORIES:Events and Activities
DESCRIPTION:<p>Join us at Lunanburg School of the Arts (6 Prince St\, Lunen
 burg) for a free group drawing session while experiencing the live cello m
 usic of Julia-Hyunji Lee.</p>\n<p>What does music look like? In Sound &amp
 \; Sketch\, you will embark on a creative journey where sound and visual e
 xpression come together. Through live cello performances of vivid\, colorf
 ul pieces - some inspired by folk tales and storytelling - you are encoura
 ged to explore how music creates emotions\, scenes\, and characters.</p>\n
 <p>No musical or artistic experience is needed - just an open mind and lov
 e for creativity.</p>
DTSTART;TZID=America/Halifax:20260427T120000
DTEND;TZID=America/Halifax:20260427T130000
SUMMARY:Sound & Sketch
URL:https://www.modl.ca/447-community-calendar/451-events-and-activities/98
 82-sound-sketch.html
X-ALT-DESC;FMTTYPE=TEXT/HTML:<p>Join us at Lunanburg School of the Arts (6 
 Prince St\, Lunenburg) for a free group drawing session while experiencing
  the live cello music of Julia-Hyunji Lee.</p>\n<p>What does music look li
 ke? In Sound &amp\; Sketch\, you will embark on a creative journey where s
 ound and visual expression come together. Through live cello performances 
 of vivid\, colorful pieces - some inspired by folk tales and storytelling 
 - you are encouraged to explore how music creates emotions\, scenes\, and 
 characters.</p>\n<p>No musical or artistic experience is needed - just an 
 open mind and love for creativity.</p>
END:VEVENT
BEGIN:VEVENT
UID:20250128T120000AST-7641t5lNlB@https://www.modl.ca/
DTSTAMP:20260420T164339Z
CATEGORIES:Council and Committee Meetings
DESCRIPTION:<p><strong>Location:</strong>&nbsp\;Council Chambers - Administ
 ration Building</p>
DTSTART;TZID=America/Halifax:20250128T090000
DTEND;TZID=America/Halifax:20250128T120000
RRULE:FREQ=MONTHLY;UNTIL=20281030T030000Z;INTERVAL=1;BYDAY=TU;BYSETPOS=4
SUMMARY:Council Meeting
URL:https://www.modl.ca/447-community-calendar/448-council-and-committee-me
 etings/8734-council-meeting.html
X-ALT-DESC;FMTTYPE=TEXT/HTML:<p><strong>Location:</strong>&nbsp\;Council Ch
 ambers - Administration Building</p>
END:VEVENT
END:VCALENDAR
